BEGIN:VCALENDAR
VERSION:2.0
PRODID:-//ChamberMaster//Event Calendar 2.0//EN
METHOD:PUBLISH
X-PUBLISHED-TTL:P3D
REFRESH-INTERVAL:P3D
CALSCALE:GREGORIAN
BEGIN:VEVENT
DTSTART:20200423T173000Z
DTEND:20200423T183000Z
X-MICROSOFT-CDO-ALLDAYEVENT:FALSE
SUMMARY:WEBINAR: Leadership Tools For Change
DESCRIPTION:WEBINAR: Leadership Tools For Change\n\n\n\nIndividual Change Process - With Michelle Anne of The Masters Course\n\n \n\nHow to navigate change personally and in your organization.\n\n\n\nWe will discuss key questions around planning\, communication\, readiness\, involvement and adjustments.\n\n\n\nFormulating answers to key questions and seeing this through to success.\n\n\n\nNeuroscience and brain change\, and philosophy will be included in this discussion.\n\n\n(Presentation - Harvard Public Health\, Mass General Hospital\, The Masters Course)\n\n\nThis presentation will be live from 11:30 a.m. to 12:30 p.m. with an opportunity to ask our presenter\, Michelle Anne\, questions during the presentation.\n\n\n\nThis is science proven facts from Harvard Public Health\, Massachusetts General\, Broad Institute\, and The Masters Course on how to cope with Coronavirus related Stress.\n\n \nMichelle (Shakti) Anne\, is a Master Executive Neuro Coach\, National Speaker and guru in the fields of NeuroLeadership\, stress and team development. A confident\, thought-provoking and relaxed speaker\, she offers keynotes\, coaching\, and team development for clients such as: FEMA\, Bureau of Prisons\, Holland & Hart\, and some of the largest Fortune 100 consulting firms.\n\n \n\nMichelle has studied Neuroscience at Harvard University\, Business Leadership at Miami University\, Creativity & Innovation at Parsons School of Design\, Mind-body medicine and Stress Mastery at The American Institute of Stress and The Center for Mindfulness\, and done intensive work with a guru in eastern philosophy. She is part of a Think-tank with leaders at the United Nations\, Harvard\, Pepperdine\, and Stanford developing new methodologies to evolving leadership adaptability\, innovation and enlightenment.\n\n\n\n\nWe hope that you will join us and come together to learn how we can conquer and overcome during these difficult times.
X-ALT-DESC;FMTTYPE=text/html:<div><br />\n<span style="font-size:14px\;"><span style="font-family:tahoma\;"><strong>WEBINAR: Leadership Tools For Change</strong><br />\n<br />\n<span style="color:#0000FF\;"><strong>Individual Change Process - With Michelle Anne of The Masters Course</strong></span></span></span><br />\n&nbsp\;\n<div>\n<div><span style="font-size:14px\;"><span style="font-family:tahoma\;"><font color="#000025"><em>How to navigate change personally and in your organization.</em><br />\n<br />\nWe will discuss key questions around planning\, communication\, readiness\, involvement and adjustments.<br />\n<br />\nFormulating answers to key questions and seeing this through to success.<br />\n<br />\nNeuroscience and brain change\, and philosophy will be included in this discussion.</font></span></span></div>\n</div>\n\n<div><span style="font-size:14px\;"><span style="font-family:tahoma\;">(Presentation - Harvard Public Health\, Mass General Hospital\, The Masters Course)</span></span></div>\n<br />\n<span style="font-size:14px\;"><span style="font-family:tahoma\;">This presentation will be live from 11:30 a.m. to 12:30 p.m. with an opportunity to ask our presenter\, Michelle Anne\, questions during the presentation.<br />\n<br />\nThis is science proven facts from Harvard Public Health\, Massachusetts General\, Broad Institute\, and The Masters Course on <em>how</em> <span style="text-align: left\; color: rgb(51\, 51\, 51)\; text-transform: none\; text-indent: 0px\; letter-spacing: normal\; font-style: italic\; font-variant: normal\; font-weight: 400\; text-decoration: none\; word-spacing: 0px\; display: inline !important\; white-space: normal\; orphans: 2\; float: none\; -webkit-text-stroke-width: 0px\; background-color: rgb(255\, 255\, 255)\;">to cope with Coronavirus related Stress.</span></span></span><br />\n&nbsp\;\n<div><span style="font-size:14px\;"><span style="font-family:tahoma\;">Michelle (Shakti) Anne\, is a Master Executive Neuro Coach\, National Speaker and guru in the fields of NeuroLeadership\, stress and team development. A confident\, thought-provoking and relaxed speaker\, she offers keynotes\, coaching\, and team development for clients such as: FEMA\, Bureau of Prisons\, Holland &amp\; Hart\, and some of the largest Fortune 100 consulting firms.</span></span><br />\n&nbsp\;</div>\n\n<div><span style="font-size:14px\;"><span style="font-family:tahoma\;">Michelle has studied Neuroscience at Harvard University\, Business Leadership at Miami University\, Creativity &amp\; Innovation at Parsons School of Design\, Mind-body medicine and Stress Mastery at The American Institute of Stress and The Center for Mindfulness\, and done intensive work with a guru in eastern philosophy. She is part of a Think-tank with leaders at the United Nations\, Harvard\, Pepperdine\, and Stanford developing new methodologies to evolving leadership adaptability\, innovation and enlightenment.</span></span></div>\n</div>\n\n<div><br />\n<span style="font-size:14px\;"><span style="font-family:tahoma\;"><span style="color:#0000FF\;"><em>We hope that you will join us and come together to learn how we can&nbsp\;</em></span><span style="text-align: left\; color: rgb(0\, 0\, 255)\; text-transform: none\; text-indent: 0px\; letter-spacing: normal\; font-style: italic\; font-variant: normal\; font-weight: 400\; text-decoration: none\; word-spacing: 0px\; display: inline !important\; white-space: normal\; orphans: 2\; float: none\; -webkit-text-stroke-width: 0px\; background-color: rgb(255\, 255\, 255)\;">conquer</span><span style="color:#0000FF\;"><em> and overcome during these difficult times.&nbsp\;</em></span></span></span></div>\n
LOCATION:WEBINAR: Click Here to Join the Zoom Meeting Webinar ID: 846 256 7470 -OR- Copy & Paste the following Link into your URL: https://nam02.safelinks.protection.outlook.com/?url=https%3A%2F%2Fzoom.us%2Fj%2F8462567470&amp\;data=02%7C01%7Cdpoole%40aurorachamber.org%7Cabd9551a9bed4768f79d08d7d677049a%7C8a4abf595b8047ca9443ea1e499fdbb8%7C1%7C0%7C637213678986667685&amp\;sdata=iKHVbsewVpE9WiO%2Bo7R8tF3G6FILg9pBVo5qn2ZVdvk%3D&amp\;reserved=0 Webinar ID: 846 256 7470 This webinar will be recorded and posted on our website and Facebook to be viewed at your convenience\, however\, if you would like to view live and ask questions confidentially\, please log on at the time of the presentation.
UID:e.347.101342
SEQUENCE:3
DTSTAMP:20260421T042715Z
URL:http://aurorachamber.chambermaster.com/events/details/webinar-leadership-tools-for-change-101342
END:VEVENT

END:VCALENDAR
